BEGIN:VCALENDAR
VERSION:2.0
PRODID:-//Idaho Geospatial Office - ECPv6.15.18//NONSGML v1.0//EN
CALSCALE:GREGORIAN
METHOD:PUBLISH
X-WR-CALNAME:Idaho Geospatial Office
X-ORIGINAL-URL:https://gis.idaho.gov
X-WR-CALDESC:Events for Idaho Geospatial Office
REFRESH-INTERVAL;VALUE=DURATION:PT1H
X-Robots-Tag:noindex
X-PUBLISHED-TTL:PT1H
BEGIN:VTIMEZONE
TZID:America/Boise
BEGIN:DAYLIGHT
TZOFFSETFROM:-0700
TZOFFSETTO:-0600
TZNAME:MDT
DTSTART:20240310T090000
END:DAYLIGHT
BEGIN:STANDARD
TZOFFSETFROM:-0600
TZOFFSETTO:-0700
TZNAME:MST
DTSTART:20241103T080000
END:STANDARD
BEGIN:DAYLIGHT
TZOFFSETFROM:-0700
TZOFFSETTO:-0600
TZNAME:MDT
DTSTART:20250309T090000
END:DAYLIGHT
BEGIN:STANDARD
TZOFFSETFROM:-0600
TZOFFSETTO:-0700
TZNAME:MST
DTSTART:20251102T080000
END:STANDARD
BEGIN:DAYLIGHT
TZOFFSETFROM:-0700
TZOFFSETTO:-0600
TZNAME:MDT
DTSTART:20260308T090000
END:DAYLIGHT
BEGIN:STANDARD
TZOFFSETFROM:-0600
TZOFFSETTO:-0700
TZNAME:MST
DTSTART:20261101T080000
END:STANDARD
END:VTIMEZONE
BEGIN:VEVENT
DTSTART;TZID=America/Boise:20250805T110000
DTEND;TZID=America/Boise:20250805T120000
DTSTAMP:20260425T193329
CREATED:20250203T151227Z
LAST-MODIFIED:20250203T151227Z
UID:4409-1754391600-1754395200@gis.idaho.gov
SUMMARY:Addressing Special Interest Group
DESCRIPTION:Address Discussion/Meet Up\nThis is the monthly meetup schedule for Addressing. If you are on here and need to be removed let me know. It was a simple copy and paste reoccurrence. More details per month will come out if there is a presentation over a general discussion. Bring your questions and get some statewide answers. \n-~-~-~-~-~-~-~-~-~-~-~-~-~-~-~-~-~-~-~-~-~-~- \n\n\n\n— Do not delete or change any of the following text. —\n\n\n \n\n\n\n\n\n\nWhen it’s time\, join your Webex meeting here. \n\n\n \n\n\n\n  \n\n\n\n\n\n\n\nJoin meeting\n\n\n\n\n\n\n \n\n\nMore ways to join: \n\n\n \n\n\nJoin from the meeting link \n\n\nhttps://adacounty.webex.com/adacounty/j.php?MTID=mf6fe239cd14a31e9b2387cbc8c4ceeb6\n\n\n \n\n\n\n  \n\n\n\nJoin by meeting number \n\n\nMeeting number (access code): 2869 902 5383\n\n\nMeeting password: e7Pa3cx3mmM\n\n\n \n\n\n\nTap to join from a mobile device (attendees only)\n+1-415-655-0001\,\,28699025383## US Toll \nJoin by phone\n+1-415-655-0001 US Toll\nGlobal call-in numbers \n\n\n\n \n\n\n\nJoin from a video system or application\nDial 28699025383@adacounty.webex.com\nYou can also dial 173.243.2.68 and enter your meeting number. \n\n\n\n \n\n\n\n  \n\n\n\n \n\n\nIf you are a host\, click here and login site to view host information.\n\n\n\n  \n\n\n\n \n\n\nNeed help? Go to https://help.webex.com\n\n\n 
URL:https://gis.idaho.gov/event/addressing-special-interest-group-8
END:VEVENT
BEGIN:VEVENT
DTSTART;TZID=America/Boise:20250806T100000
DTEND;TZID=America/Boise:20250806T113000
DTSTAMP:20260425T193329
CREATED:20241227T162259Z
LAST-MODIFIED:20241227T162259Z
UID:4281-1754474400-1754479800@gis.idaho.gov
SUMMARY:Imagery Technical Working Group
DESCRIPTION:Imagery TWG meets the first Wednesday of the month at 10:00 local Boise time. \n________________________________________________________________________________ \nMicrosoft Teams Need help? \nJoin the meeting now \nMeeting ID: 225 656 222 12 \nPasscode: ij3h66S2 \nDial in by phone \n+1 208-985-2810\,\,242485595# United States\, Boise \nFind a local number \nPhone conference ID: 242 485 595# \nJoin on a video conferencing device \nTenant key: idahogov@m.webex.com \nVideo ID: 118 373 781 0 \nMore info \nFor organizers: Meeting options | Reset dial-in PIN \n________________________________________________________________________________
URL:https://gis.idaho.gov/event/imagery-technical-working-group-18
ORGANIZER;CN="Margie Wilkins":MAILTO:margie.wilkins@idwr.idaho.gov
END:VEVENT
BEGIN:VEVENT
DTSTART;TZID=America/Boise:20250807T130000
DTEND;TZID=America/Boise:20250807T140000
DTSTAMP:20260425T193329
CREATED:20250117T162625Z
LAST-MODIFIED:20250117T162625Z
UID:4380-1754571600-1754575200@gis.idaho.gov
SUMMARY:Elevation Technical Working Group
DESCRIPTION:  \nTopic: Elevation TWG \nTime: 1pm Mountain Time\, First Thursday of the Month \n  \nJoin Zoom Meeting \nhttps://boisestate.zoom.us/j/96060802159?pwd=OVVjOXV6OURpQWF6dkdCOUZNaWNTdz09 \n  \nMeeting ID: 960 6080 2159 \nPasscode: 701110 \nOne tap mobile \n+16699006833\,\,96060802159# US (San Jose) \n+12532158782\,\,96060802159# US (Tacoma) \n  \nDial by your location \n+1 669 900 6833 US (San Jose) \n+1 253 215 8782 US (Tacoma) \n+1 346 248 7799 US (Houston) \n+1 646 558 8656 US (New York) \n+1 301 715 8592 US (Washington DC) \n+1 312 626 6799 US (Chicago) \nMeeting ID: 960 6080 2159 \nFind your local number: https://boisestate.zoom.us/u/abDqhJZPtX
URL:https://gis.idaho.gov/event/elevation-technical-working-group-30
ORGANIZER;CN="Josh Enterkine":MAILTO:joshenterkine@boisestate.edu
END:VEVENT
BEGIN:VEVENT
DTSTART;TZID=America/Boise:20250812T130000
DTEND;TZID=America/Boise:20250812T140000
DTSTAMP:20260425T193329
CREATED:20250113T195845Z
LAST-MODIFIED:20250113T195845Z
UID:4331-1755003600-1755007200@gis.idaho.gov
SUMMARY:Climate Technical Working Group - August
DESCRIPTION:The climate technical working group will be held the 2nd Tuesday of each month\, with topics and presenters covering climate datasets to be found for and displayed on The Idaho Map once approved by the Idaho Geospatial Council. All are invited to these meetings and we are always open to suggestions on future datasets to cover. We hope to see you there! \nPresenter/Topic for the Month: To Be Announced \n________________________________________________________________________________ \nMicrosoft Teams Need help? \nJoin the meeting now \nMeeting ID: 226 406 736 38 \nPasscode: y2Kd7AB9 \nDial in by phone \n+1 208-985-2810\,\,833810094# United States\, Boise \nFind a local number \nPhone conference ID: 833 810 094# \nJoin on a video conferencing device \nTenant key: idahogov@m.webex.com \nVideo ID: 113 845 892 8 \nMore info
URL:https://gis.idaho.gov/event/climate-technical-working-group-august
END:VEVENT
BEGIN:VEVENT
DTSTART;TZID=America/Boise:20250813T140000
DTEND;TZID=America/Boise:20250813T150000
DTSTAMP:20260425T193329
CREATED:20250620T141557Z
LAST-MODIFIED:20250620T141557Z
UID:4512-1755093600-1755097200@gis.idaho.gov
SUMMARY:Census Training Series - Session 3 - Tools for Emergency Planning
DESCRIPTION:We are excited to announce a series of informal trainings on accessing and using Census data\, presented by Brian L. Berman of the US Census Bureau and we invite all to attend! These trainings will occur on the second Wednesday of the month at 2pm MT\, with the first three being set as follows: \nSession 1 – June 11th – Accessing Census Data on Population and Demographics\nSession 2 – July 9th – Census Business Builder\nSession 3 – August 13th – Tools for Emergency Planning \nDepending on interest and attendance\, up to 3 future sessions will be planned in the following months. \n________________________________________________________________________________ \nMicrosoft Teams Need help? \nJoin the meeting now \nMeeting ID: 216 564 668 575 6 \nPasscode: aK3rT23M \nDial in by phone \n+1 208-985-2810\,\,297960213# United States\, Boise \nFind a local number \nPhone conference ID: 297 960 213# \nJoin on a video conferencing device \nTenant key: idahogov@m.webex.com \nVideo ID: 113 716 817 7 \nMore info
URL:https://gis.idaho.gov/event/census-training-series-session-3-tools-for-emergency-planning
END:VEVENT
BEGIN:VEVENT
DTSTART;TZID=America/Boise:20250819T090000
DTEND;TZID=America/Boise:20250819T100000
DTSTAMP:20260425T193329
CREATED:20250721T165537Z
LAST-MODIFIED:20250721T170558Z
UID:4547-1755594000-1755597600@gis.idaho.gov
SUMMARY:Hazards Technical Working Group
DESCRIPTION:Agenda for upcoming meeting: \n\nFire risk\nDiscuss nomination to approve IDL as Idaho’s authoritative fire risk model for inclusion in the Idaho Map\nFire Risk provided by NIFC is probably the authoritative source\nLayer of historical fires\nOpen datasets on NIFC is okay\nWhich hazard datasets do we need to tackle next\nAvalanches\nDebris Flows\nLandslides\nUSGS – working on these.\nBase it off of burn severity maps (BARK?? maps)\nRisk prior to and after it
URL:https://gis.idaho.gov/event/hazards-technical-working-group-6
ORGANIZER;CN="Megan Wheatley":MAILTO:megan.wheatley@its.idaho.gov
END:VEVENT
BEGIN:VEVENT
DTSTART;TZID=America/Boise:20250819T150000
DTEND;TZID=America/Boise:20250819T160000
DTSTAMP:20260425T193329
CREATED:20241227T164011Z
LAST-MODIFIED:20241227T164011Z
UID:4305-1755615600-1755619200@gis.idaho.gov
SUMMARY:Geoscience Technical Working Group
DESCRIPTION:________________________________________________________________________________ \nMicrosoft Teams Need help? \nJoin the meeting now \nMeeting ID: 274 051 789 032 \nPasscode: R9tX6in3 \nDial in by phone \n+1 208-985-2810\,\,857514134# United States\, Boise \nFind a local number \nPhone conference ID: 857 514 134# \nJoin on a video conferencing device \nTenant key: idahogov@m.webex.com \nVideo ID: 116 144 991 2 \nMore info \nFor organizers: Meeting options | Reset dial-in PIN \n________________________________________________________________________________
URL:https://gis.idaho.gov/event/geoscience-technical-working-group-21
ORGANIZER;CN="Jackie Reader":MAILTO:jackie.reader@its.idaho.gov
END:VEVENT
BEGIN:VEVENT
DTSTART;TZID=America/Boise:20250821T103000
DTEND;TZID=America/Boise:20250821T113000
DTSTAMP:20260425T193329
CREATED:20250630T195953Z
LAST-MODIFIED:20250724T134902Z
UID:4519-1755772200-1755775800@gis.idaho.gov
SUMMARY:Transportation TWG - August
DESCRIPTION:Please join us for the August meeting of the Transportation Technical Working Group. \n________________________________________________________________________________ \nMicrosoft Teams Need help? \nJoin the meeting now \nMeeting ID: 241 641 542 245 3 \nPasscode: YX9Yu3rV \nDial in by phone \n+1 208-473-7075\,\,669998926# United States\, Boise \nFind a local number \nPhone conference ID: 669 998 926# \nJoin on a video conferencing device \nTenant key: itdgov@m.webex.com \nVideo ID: 118 351 426 4
URL:https://gis.idaho.gov/event/transportation-twg-july
END:VEVENT
BEGIN:VEVENT
DTSTART;TZID=America/Boise:20250828T090000
DTEND;TZID=America/Boise:20250828T100000
DTSTAMP:20260425T193329
CREATED:20250724T134954Z
LAST-MODIFIED:20250724T134954Z
UID:4522-1756371600-1756375200@gis.idaho.gov
SUMMARY:Human Interest Technical Working Group - August
DESCRIPTION:The Human Interest TWG will begin meeting on the 4th Thursday of every month at 9am MT. A variety of topics and datasets will be considered and worked on\, guided by your feedback and efforts\, and we invite all to attend to assist us with a number of critical statewide datasets! \n\nMicrosoft Teams Need help? \nJoin the meeting now \nMeeting ID: 264 397 027 384 6 \nPasscode: 93Jk6Q7A \nDial in by phone \n+1 208-985-2810\,\,499718222# United States\, Boise \nFind a local number \nPhone conference ID: 499 718 222# \nJoin on a video conferencing device \nTenant key: idahogov@m.webex.com \nVideo ID: 118 888 794 8 \nMore info
URL:https://gis.idaho.gov/event/human-interest-technical-working-group-august
END:VEVENT
END:VCALENDAR