BEGIN:VCALENDAR
VERSION:2.0
PRODID:-//Idaho Geospatial Office - ECPv5.9.1//NONSGML v1.0//EN
CALSCALE:GREGORIAN
METHOD:PUBLISH
X-WR-CALNAME:Idaho Geospatial Office
X-ORIGINAL-URL:https://gis.idaho.gov
X-WR-CALDESC:Events for Idaho Geospatial Office
BEGIN:VTIMEZONE
TZID:America/Boise
BEGIN:DAYLIGHT
TZOFFSETFROM:-0700
TZOFFSETTO:-0600
TZNAME:MDT
DTSTART:20210314T090000
END:DAYLIGHT
BEGIN:STANDARD
TZOFFSETFROM:-0600
TZOFFSETTO:-0700
TZNAME:MST
DTSTART:20211107T080000
END:STANDARD
END:VTIMEZONE
BEGIN:VEVENT
DTSTART;TZID=America/Boise:20210803T090000
DTEND;TZID=America/Boise:20210803T160000
DTSTAMP:20210926T225340
CREATED:20210721T191640Z
LAST-MODIFIED:20210721T191941Z
UID:1217-1627981200-1628006400@gis.idaho.gov
SUMMARY:Beginner's Guide to GIS - ISU Workshop
DESCRIPTION:A Beginners Guide to GIS\nThis special workshop is designed for people new to GIS. We describe and discover what GIS is and how Geographic Information Systems work. Topics include architecture\, geospatial reference systems\, databases\, and a sneak peak of various fun and powerful GIS capabilities using ArcGIS. This is a full-day workshop. \nPrerequisites: familiarity with computers. \nIntended audience: anyone with an interest in GIS \nCost: $100/person \nMore info and registration
URL:https://gis.idaho.gov/event/beginners-guide-to-gis-isu-workshop
CATEGORIES:Training Events,Upcoming Events
END:VEVENT
BEGIN:VEVENT
DTSTART;TZID=America/Boise:20210804T090000
DTEND;TZID=America/Boise:20210804T160000
DTSTAMP:20210926T225340
CREATED:20210721T191855Z
LAST-MODIFIED:20210721T191959Z
UID:1219-1628067600-1628092800@gis.idaho.gov
SUMMARY:Becoming Productive with ArcGIS Pro - ISU Workshop
DESCRIPTION:Becoming Productive with ArcGIS Pro\nArcGIS Pro is new software that delivers a radically different user interface and a new way of working with GIS. While it is different it is also powerful and not impossible to learn. Join us for this exciting new workshop to learn how you can begin using ArcGIS Pro effectively in your workplace. This full-day workshop teaches the user-interface\, how to build maps as ArcGIS Pro Projects\, create 3D views\, link these views to 2D views\, as well as how to query and run geoprocessing tools within ArcGIS Pro. \nPrerequisites: Familiarity with computers and basic concepts of GIS. \nIntended audience: GIS users who want to learn how to use ArcGIS Pro \nCost $100/person \nInformation and Registration
URL:https://gis.idaho.gov/event/becoming-productive-with-arcgis-pro-isu-workshop
CATEGORIES:Training Events,Upcoming Events
END:VEVENT
BEGIN:VEVENT
DTSTART;TZID=America/Boise:20210805T090000
DTEND;TZID=America/Boise:20210805T160000
DTSTAMP:20210926T225340
CREATED:20210721T192138Z
LAST-MODIFIED:20210721T192138Z
UID:1221-1628154000-1628179200@gis.idaho.gov
SUMMARY:Geodatabases in ArcGIS Pro - ISU Workshop
DESCRIPTION:The Geodatabase in ArcGIS Pro\nAre you hesitant to use ArcGIS Pro because you are not sure how your existing geodatabases will function? This workshop teaches the architecture of the geodatabase and how to leverage its robust capabilities while not losing any cross-platform access with ArcMap or ArcCatalog. This workshop focuses on the file geodatabase with hands-on exercises. In addition\, this workshop provides information and hands-on experience with geodatabase development topics such as attribute domains\, relationship classes\, raster mosaic datasets\, and XML workspace documents! This is a full-day workshop. \nPrerequisites: Familiarity with GIS \nIntended audience: GIS users who want to learn how to use ArcGIS Pro \nCost: $100/person \nInformation and registration
URL:https://gis.idaho.gov/event/geodatabases-in-arcgis-pro-isu-workshop
CATEGORIES:Training Events,Upcoming Events
END:VEVENT
BEGIN:VEVENT
DTSTART;TZID=America/Boise:20210805T130000
DTEND;TZID=America/Boise:20210805T140000
DTSTAMP:20210926T225340
CREATED:20210427T133721Z
LAST-MODIFIED:20210427T134510Z
UID:988-1628168400-1628172000@gis.idaho.gov
SUMMARY:Elevation Technical Working Group Meeting
DESCRIPTION:To join the virtual meeting click on the “View Event Website” link below \nMeeting ID: 960 6080 2159\nPasscode: 701110\nOne tap mobile\n+16699006833\,\,96060802159# US (San Jose)\n+12532158782\,\,96060802159# US (Tacoma) \nDial by your location\n        +1 669 900 6833 US (San Jose)\n        +1 253 215 8782 US (Tacoma)\n        +1 346 248 7799 US (Houston)\n        +1 646 558 8656 US (New York)\n        +1 301 715 8592 US (Washington DC)\n        +1 312 626 6799 US (Chicago)\nMeeting ID: 960 6080 2159\nFind your local number: https://boisestate.zoom.us/u/abDqhJZPtX
URL:https://gis.idaho.gov/event/elevation-technical-working-group-meeting-4
CATEGORIES:Upcoming Events
END:VEVENT
BEGIN:VEVENT
DTSTART;TZID=America/Boise:20210819T090000
DTEND;TZID=America/Boise:20210819T103000
DTSTAMP:20210926T225340
CREATED:20210409T143515Z
LAST-MODIFIED:20210409T143601Z
UID:952-1629363600-1629369000@gis.idaho.gov
SUMMARY:Treasure Valley GIS User Group Meeting
DESCRIPTION:
URL:https://gis.idaho.gov/event/treasure-valley-gis-user-group-meeting-3
CATEGORIES:Upcoming Events
END:VEVENT
BEGIN:VEVENT
DTSTART;TZID=America/Boise:20210823T110000
DTEND;TZID=America/Boise:20210823T120000
DTSTAMP:20210926T225340
CREATED:20210816T134249Z
LAST-MODIFIED:20210816T134249Z
UID:1233-1629716400-1629720000@gis.idaho.gov
SUMMARY:Transportation Technical Working Group Meeting
DESCRIPTION:Good morning!\nWe’d like to remind you to join us for our Transportation TWG meeting\, which will be occurring 08/23/2021.\nPlease be thinking of any questions that you have as part of the GIS community\, and we’ll happily answer whatever we can.  \nJoin from the meeting link\nhttps://Itdgov.webex.com/itdgov/j.php?MTID=mcfb2b91ef30e7b67c5c0629c9a311cf0  \nJoin by meeting number\nMeeting number (access code): 177 679 6336\nMeeting password: QnNs7JG4VG7   \nTap to join from a mobile device (attendees only)\n1-844-740-1264\,\,1776796336## USA Toll Free\n+1-415-655-0003\,\,1776796336## US Toll   \nJoin by phone\n+1-415-655-0003 US Toll\n1-844-740-1264 USA Toll Free\nGlobal call-in numbers  |  Toll-free calling restrictions    \nJoin from a video system or application\nDial 1776796336@itdgov.webex.com\nYou can also dial 173.243.2.68 and enter your meeting number.
URL:https://gis.idaho.gov/event/transportation-technical-working-group-meeting-3
CATEGORIES:Upcoming Events
END:VEVENT
BEGIN:VEVENT
DTSTART;TZID=America/Boise:20210826T150000
DTEND;TZID=America/Boise:20210826T160000
DTSTAMP:20210926T225340
CREATED:20210720T133454Z
LAST-MODIFIED:20210720T133454Z
UID:1198-1629990000-1629993600@gis.idaho.gov
SUMMARY:Geodetic Control Technical Working Group Meeting
DESCRIPTION:Join from PC\, Mac\, Linux\, iOS or Android: https://isu.zoom.us/my/gistrec\nMeeting ID: 286 928 9070 \nOne tap mobile\n+12532158782\,\,2869289070# US (Tacoma)\n+13462487799\,\,2869289070# US (Houston)\nDial by your location\n        +1 253 215 8782 US (Tacoma)\n        +1 346 248 7799 US (Houston)\n        +1 669 900 6833 US (San Jose)\n        +1 301 715 8592 US (Washington D.C)\n        +1 312 626 6799 US (Chicago)\n        +1 646 876 9923 US (New York) \nMeeting ID: 286 928 9070
URL:https://gis.idaho.gov/event/geodetic-control-technical-working-group-meeting-4
CATEGORIES:Upcoming Events
END:VEVENT
BEGIN:VEVENT
DTSTART;VALUE=DATE:20210831
DTEND;VALUE=DATE:20210903
DTSTAMP:20210926T225340
CREATED:20210820T162440Z
LAST-MODIFIED:20210820T163327Z
UID:1238-1630368000-1630627199@gis.idaho.gov
SUMMARY:National Imagery Summit - USGS
DESCRIPTION:2nd National Imagery Summit\nLandsat & Society\nAll Virtual Meeting\n10p\, – 5:45pm ET Daily \nPlease join USGS and its partners in the second National Imagery Summit on August 31 through September 2021. This free\, virtual event over three half-days (afternoons U.S. Eastern time) will focus on the use of Landsat data across the United States by state\, local\, tribal\, commercial\, and non-profit organizations. It will include up-to-date information on the upcoming Landsat 9 launch\, planning for Landsat Next\, recent and new USGS Landsat-derived information products\, and societal benefits analysis and land-imaging policy.  \nRegistration:
URL:https://gis.idaho.gov/event/national-imagery-summit-usgs
CATEGORIES:Upcoming Events
END:VEVENT
END:VCALENDAR