BEGIN:VCALENDAR
VERSION:2.0
PRODID:-//Idaho Geospatial Office - ECPv5.7.1//NONSGML v1.0//EN
CALSCALE:GREGORIAN
METHOD:PUBLISH
X-WR-CALNAME:Idaho Geospatial Office
X-ORIGINAL-URL:https://gis.idaho.gov
X-WR-CALDESC:Events for Idaho Geospatial Office
BEGIN:VTIMEZONE
TZID:America/Boise
BEGIN:DAYLIGHT
TZOFFSETFROM:-0700
TZOFFSETTO:-0600
TZNAME:MDT
DTSTART:20210314T090000
END:DAYLIGHT
BEGIN:STANDARD
TZOFFSETFROM:-0600
TZOFFSETTO:-0700
TZNAME:MST
DTSTART:20211107T080000
END:STANDARD
END:VTIMEZONE
BEGIN:VEVENT
DTSTART;TZID=America/Boise:20210603T130000
DTEND;TZID=America/Boise:20210603T140000
DTSTAMP:20210625T050803
CREATED:20210427T133421Z
LAST-MODIFIED:20210427T134417Z
UID:984-1622725200-1622728800@gis.idaho.gov
SUMMARY:Elevation Technical Working Group Meeting
DESCRIPTION:To join the virtual meeting\, click on the “View Event Website” link below \nMeeting ID: 960 6080 2159\nPasscode: 701110\nOne tap mobile\n+16699006833\,\,96060802159# US (San Jose)\n+12532158782\,\,96060802159# US (Tacoma) \nDial by your location\n        +1 669 900 6833 US (San Jose)\n        +1 253 215 8782 US (Tacoma)\n        +1 346 248 7799 US (Houston)\n        +1 646 558 8656 US (New York)\n        +1 301 715 8592 US (Washington DC)\n        +1 312 626 6799 US (Chicago)\nMeeting ID: 960 6080 2159\nFind your local number: https://boisestate.zoom.us/u/abDqhJZPtX
URL:https://gis.idaho.gov/event/elevation-technical-working-group-meeting-2
CATEGORIES:Upcoming Events
END:VEVENT
BEGIN:VEVENT
DTSTART;TZID=America/Boise:20210610T113000
DTEND;TZID=America/Boise:20210610T120000
DTSTAMP:20210625T050803
CREATED:20210610T163958Z
LAST-MODIFIED:20210610T163958Z
UID:1071-1623324600-1623326400@gis.idaho.gov
SUMMARY:GIS Tech Talk
DESCRIPTION:Hosted by ISU’s GISTrec
URL:https://gis.idaho.gov/event/gis-tech-talk
END:VEVENT
BEGIN:VEVENT
DTSTART;TZID=America/Boise:20210616T100000
DTEND;TZID=America/Boise:20210616T110000
DTSTAMP:20210625T050803
CREATED:20210520T171519Z
LAST-MODIFIED:20210615T122018Z
UID:1029-1623837600-1623841200@gis.idaho.gov
SUMMARY:Parcel Technical Working Group
DESCRIPTION:If you can please attend our Parcel TWG meeting this week – Wednesday\, June 16th at 9 a.m. PDT/10 a.m. MDT \nWe will be presenting proposed attribute standards. \nAlso a webinar posted on YouTube by the New York State Open GIS Parcel Data has a very good discussion about why open access to GIS tax parcels is important in New York State.\nThis seems relevant to our discussions and I wanted to share this with all and discuss it at the meeting – NYS Open GIS Parcel Data – YouTube \nJoin from the meeting link\nhttps://idahogov.webex.com/idahogov/j.php?MTID=m40fe9c1545440b4ce5f099d8d5822676  \nJoin by meeting number\nMeeting number (access code): 1770 76 0040\nMeeting password: GiDWeCrC982  \nTap to join from a mobile device (attendees only)\n+1-415-655-0001\,\,1770760040## US Toll  \nJoin by phone\n+1-415-655-0001 US Toll\nGlobal call-in numbers  \nJoin from a video system or application\nDial 1770760040@idahogov.webex.com\nYou can also dial 173.243.2.68 and enter your meeting number.  \nJoin using Microsoft Lync or Microsoft Skype for Business\nDial 1770760040.idahogov@lync.webex.com
URL:https://gis.idaho.gov/event/parcel-technical-working-group
CATEGORIES:Upcoming Events
ORGANIZER;CN="Betty%20Conces":MAILTO:bconces@kcgov.us
END:VEVENT
BEGIN:VEVENT
DTSTART;TZID=America/Boise:20210617T090000
DTEND;TZID=America/Boise:20210617T103000
DTSTAMP:20210625T050803
CREATED:20210409T142923Z
LAST-MODIFIED:20210409T142951Z
UID:950-1623920400-1623925800@gis.idaho.gov
SUMMARY:Treasure Valley GIS User Group Meeting
DESCRIPTION:
URL:https://gis.idaho.gov/event/treasure-valley-gis-user-group-meeting-2
CATEGORIES:Upcoming Events
END:VEVENT
BEGIN:VEVENT
DTSTART;TZID=America/Boise:20210624T140000
DTEND;TZID=America/Boise:20210624T160000
DTSTAMP:20210625T050803
CREATED:20210510T191643Z
LAST-MODIFIED:20210510T191643Z
UID:1018-1624543200-1624550400@gis.idaho.gov
SUMMARY:Getting Started with Experience Builder Workshop
DESCRIPTION:See https://gis.idaho.gov/gis-services-for-state-agencies for instructions on how to sign up\, as well as access recordings and workbooks for previous workshops.
URL:https://gis.idaho.gov/event/getting-started-with-experience-builder-workshop
CATEGORIES:Training Events
END:VEVENT
BEGIN:VEVENT
DTSTART;TZID=America/Boise:20210624T150000
DTEND;TZID=America/Boise:20210624T160000
DTSTAMP:20210625T050803
CREATED:20210621T181838Z
LAST-MODIFIED:20210621T182901Z
UID:1092-1624546800-1624550400@gis.idaho.gov
SUMMARY:Geodetic Control Technical Working Group Meeting
DESCRIPTION:The June GC-TWG meeting is from 3-4pm MT.  The agenda is outlined below and I hope you can attend.  For your convenience the Zoom webinar link is provided below as well. \nAgenda\n1. Introductions and sign-in (all)\n2. Updates and news (all)\na. NATRF2022 update\n3. RTN in Idaho\n     a. TURN base station updates (Kindra)\n     b. Rexburg TURN sites (Stewart)\n4. MCPD\n     a. MCPD control points updates for Idaho & Montana (Kindra)\n     b. Issues with MCPD XLS template? (Kindra)\n     c. Review and discussion\n5. Other items (all) \nJoin from PC\, Mac\, Linux\, iOS or Android: https://isu.zoom.us/my/gistrec\nMeeting ID: 286 928 9070\nOne tap mobile\n+12532158782\,\,2869289070# US (Tacoma)\n+13462487799\,\,2869289070# US (Houston)
URL:https://gis.idaho.gov/event/geodetic-control-technical-working-group-meeting-3
CATEGORIES:Upcoming Events
END:VEVENT
BEGIN:VEVENT
DTSTART;TZID=America/Boise:20210630T090000
DTEND;TZID=America/Boise:20210630T160000
DTSTAMP:20210625T050803
CREATED:20210608T195546Z
LAST-MODIFIED:20210608T200859Z
UID:1059-1625043600-1625068800@gis.idaho.gov
SUMMARY:Working With Lidar in ArcGIS Pro
DESCRIPTION:This full day course teaches the fundamentals of lidar\, its data structure\, and data standards. Participants will learn how to download lidar data from the Idaho Lidar Consortium and the ISU GIS TReC Lidar Web Viewer. With data in hand the participant will build an LAS dataset in ArcGIS Pro\, learn how to classify point returns\, and create a bare earth raster image. \nPrerequisites: Good computer skills and familiarity with ArcGIS Pro software. \nIntended audience: GIS professionals\, students\, and engineers who need to use lidar data effectively. \nOur workshop itinerary is available for viewing. \nZoom webinar\n9am-4pm \nPlease visit https://giscenter.isu.edu/Workshops/index.htm for full details. \nFees for this workshop are $0 /person.
URL:https://gis.idaho.gov/event/working-with-lidar-in-arcgis-pro
CATEGORIES:Training Events
END:VEVENT
BEGIN:VEVENT
DTSTART;TZID=America/Boise:20210701T113000
DTEND;TZID=America/Boise:20210701T120000
DTSTAMP:20210625T050803
CREATED:20210622T193304Z
LAST-MODIFIED:20210622T193304Z
UID:1100-1625139000-1625140800@gis.idaho.gov
SUMMARY:Tech Talk Webinar - The Problem With Pop-Ups
DESCRIPTION:Join us for a FREE TECH talk webinar at 11:30am MT Thursday July 1st.  Our topic will be The Problem with Pop-ups and specifically\, actionable information considerations focusing on communicating with GIS through our web maps and web map apps! \nHere is the link:\nJoin from PC\, Mac\, Linux\, iOS or Android: https://isu.zoom.us/my/gistrec\nMeeting ID: 286 928 9070\nOne tap mobile\n+12532158782\,\,2869289070# US (Tacoma)\n+13462487799\,\,2869289070# US (Houston)
URL:https://gis.idaho.gov/event/tech-talk-webinar-the-problem-with-pop-ups
CATEGORIES:Training Events,Upcoming Events
END:VEVENT
BEGIN:VEVENT
DTSTART;TZID=America/Boise:20210701T130000
DTEND;TZID=America/Boise:20210701T140000
DTSTAMP:20210625T050803
CREATED:20210427T133554Z
LAST-MODIFIED:20210427T134440Z
UID:986-1625144400-1625148000@gis.idaho.gov
SUMMARY:Elevation Technical Working Group Meeting
DESCRIPTION:To access the virtual meeting\, click on the “View Event Website” link below \nMeeting ID: 960 6080 2159\nPasscode: 701110\nOne tap mobile\n+16699006833\,\,96060802159# US (San Jose)\n+12532158782\,\,96060802159# US (Tacoma) \nDial by your location\n        +1 669 900 6833 US (San Jose)\n        +1 253 215 8782 US (Tacoma)\n        +1 346 248 7799 US (Houston)\n        +1 646 558 8656 US (New York)\n        +1 301 715 8592 US (Washington DC)\n        +1 312 626 6799 US (Chicago)\nMeeting ID: 960 6080 2159\nFind your local number: https://boisestate.zoom.us/u/abDqhJZPtX
URL:https://gis.idaho.gov/event/elevation-technical-working-group-meeting-3
CATEGORIES:Upcoming Events
END:VEVENT
BEGIN:VEVENT
DTSTART;TZID=America/Boise:20210706T090000
DTEND;TZID=America/Boise:20210706T160000
DTSTAMP:20210625T050803
CREATED:20210608T200107Z
LAST-MODIFIED:20210608T201319Z
UID:1061-1625562000-1625587200@gis.idaho.gov
SUMMARY:Beginners Guide to GIS
DESCRIPTION:This special workshop is designed for people new to GIS. We describe and discover what GIS is and how Geographic Information Systems work. Topics include architecture\, geospatial reference systems\, databases\, and a sneak peak of various fun and powerful GIS capabilities using ArcGIS. This is a full-day workshop. \nPrerequisites: familiarity with computers. \nIntended audience: anyone with an interest in GIS. \nOur workshop itinerary is available for viewing. \nZoom webinar\n9am-4pm\nRegister now \nCost is $100 per participant
URL:https://gis.idaho.gov/event/beginners-guide-to-gis
CATEGORIES:Training Events
END:VEVENT
BEGIN:VEVENT
DTSTART;TZID=America/Boise:20210707T090000
DTEND;TZID=America/Boise:20210707T160000
DTSTAMP:20210625T050803
CREATED:20210608T200731Z
LAST-MODIFIED:20210608T200801Z
UID:1064-1625648400-1625673600@gis.idaho.gov
SUMMARY:Becoming Productive with ArcGIS Pro
DESCRIPTION:ArcGIS Pro is new software that delivers a radically different user interface and a new way of working with GIS. While it is different it is also powerful and not impossible to learn. Join us for this exciting new workshop to learn how you can begin using ArcGIS Pro effectively in your workplace. This full-day workshop teaches the user-interface\, how to build maps as ArcGIS Pro Projects\, create 3D views\, link these views to 2D views\, as well as how to query and run geoprocessing tools within ArcGIS Pro. \nPrerequisites: Familiarity with computers and basic concepts of GIS. \nIntended audience: GIS users who want to learn how to use ArcGIS Pro \nOur workshop itinerary is available for viewing. \nZoom webinar\n9am-4pm\nRegister now \nFees for this workshop are $100 /person.
URL:https://gis.idaho.gov/event/becoming-productive-with-arcgis-pro-2
CATEGORIES:Training Events
END:VEVENT
BEGIN:VEVENT
DTSTART;TZID=America/Boise:20210707T100000
DTEND;TZID=America/Boise:20210707T113000
DTSTAMP:20210625T050803
CREATED:20210617T205427Z
LAST-MODIFIED:20210617T205427Z
UID:1087-1625652000-1625657400@gis.idaho.gov
SUMMARY:Parcel Technical Working Group
DESCRIPTION:Join from the meeting link \n\n\nhttps://idahogov.webex.com/idahogov/j.php?MTID=mb8fa1699b4b2e4d9b0c623961673e959\n\n\n\nTap to join from a mobile device (attendees only)\n+1-415-655-0001\,\,1779732852## US Toll
URL:https://gis.idaho.gov/event/parcel-technical-working-group-2
CATEGORIES:Upcoming Events
END:VEVENT
BEGIN:VEVENT
DTSTART;TZID=America/Boise:20210708T090000
DTEND;TZID=America/Boise:20210708T160000
DTSTAMP:20210625T050803
CREATED:20210608T201117Z
LAST-MODIFIED:20210608T201508Z
UID:1066-1625734800-1625760000@gis.idaho.gov
SUMMARY:Geodatabases in ArcGIS Pro
DESCRIPTION:Are you hesitant to use ArcGIS Pro because you are not sure how your existing geodatabases will function? This workshop teaches the architecture of the geodatabase and how to leverage its robust capabilities while not losing any cross-platform access with ArcMap or ArcCatalog. This workshop focuses on the file geodatabase with hands-on exercises. In addition\, this workshop provides information and hands-on experience with geodatabase development topics such as attribute domains\, relationship classes\, raster mosaic datasets\, and XML workspace documents! This is a full-day workshop. \nPrerequisites: Familiarity with GIS \nIntended audience: GIS users who want to learn how to use ArcGIS Pro \nOur workshop itinerary is available for viewing. \nZoom webinar\n9am-4pm\n08.July.21\nRegister now \nFees for this workshop are $100 /person.
URL:https://gis.idaho.gov/event/geodatabases-in-arcgis-pro
CATEGORIES:Training Events
END:VEVENT
BEGIN:VEVENT
DTSTART;TZID=America/Boise:20210712T080000
DTEND;TZID=America/Boise:20210715T170000
DTSTAMP:20210625T050803
CREATED:20210302T142100Z
LAST-MODIFIED:20210302T142508Z
UID:853-1626076800-1626368400@gis.idaho.gov
SUMMARY:ESRI Annual Conference
DESCRIPTION:See the link below for more information
URL:https://gis.idaho.gov/event/esri-annual-conference
CATEGORIES:Upcoming Events
END:VEVENT
BEGIN:VEVENT
DTSTART;VALUE=DATE:20210719
DTEND;VALUE=DATE:20210724
DTSTAMP:20210625T050803
CREATED:20210315T125800Z
LAST-MODIFIED:20210315T125800Z
UID:882-1626652800-1627084799@gis.idaho.gov
SUMMARY:Geospatial Training Services - ArcGIS Pro Training
DESCRIPTION:These ArcGIS classes are paid training offered by Geospatial Training Services\nMore information and registration are available via the link below.
URL:https://gis.idaho.gov/event/geospatial-training-services-arcgis-pro-training
CATEGORIES:Training Events
END:VEVENT
BEGIN:VEVENT
DTSTART;TZID=America/Boise:20210722T093000
DTEND;TZID=America/Boise:20210722T113000
DTSTAMP:20210625T050803
CREATED:20210617T205707Z
LAST-MODIFIED:20210617T205741Z
UID:1090-1626946200-1626953400@gis.idaho.gov
SUMMARY:Idaho Geospatial Council Executive Committee (IGC-EC) Meeting
DESCRIPTION:  \nWebex link (with video): \nhttps://idahogov.webex.com/meet/mary.bir \n– Or – \nTeleconference (audio) only/dial-in: \nToll-free phone: 1-833-695-0549 \nAccess Code: 133 062 4021 # \nAttendee ID: # (No attendee ID is required\, press # to join the meeting)
URL:https://gis.idaho.gov/event/idaho-geospatial-council-executive-committee-igc-ec-meeting
CATEGORIES:Upcoming Events
ORGANIZER;CN="Idaho%20Geospatial%20Office":MAILTO:itsgisteam@its.idaho.gov
END:VEVENT
BEGIN:VEVENT
DTSTART;TZID=America/Boise:20210805T130000
DTEND;TZID=America/Boise:20210805T140000
DTSTAMP:20210625T050803
CREATED:20210427T133721Z
LAST-MODIFIED:20210427T134510Z
UID:988-1628168400-1628172000@gis.idaho.gov
SUMMARY:Elevation Technical Working Group Meeting
DESCRIPTION:To join the virtual meeting click on the “View Event Website” link below \nMeeting ID: 960 6080 2159\nPasscode: 701110\nOne tap mobile\n+16699006833\,\,96060802159# US (San Jose)\n+12532158782\,\,96060802159# US (Tacoma) \nDial by your location\n        +1 669 900 6833 US (San Jose)\n        +1 253 215 8782 US (Tacoma)\n        +1 346 248 7799 US (Houston)\n        +1 646 558 8656 US (New York)\n        +1 301 715 8592 US (Washington DC)\n        +1 312 626 6799 US (Chicago)\nMeeting ID: 960 6080 2159\nFind your local number: https://boisestate.zoom.us/u/abDqhJZPtX
URL:https://gis.idaho.gov/event/elevation-technical-working-group-meeting-4
CATEGORIES:Upcoming Events
END:VEVENT
BEGIN:VEVENT
DTSTART;TZID=America/Boise:20210819T090000
DTEND;TZID=America/Boise:20210819T103000
DTSTAMP:20210625T050803
CREATED:20210409T143515Z
LAST-MODIFIED:20210409T143601Z
UID:952-1629363600-1629369000@gis.idaho.gov
SUMMARY:Treasure Valley GIS User Group Meeting
DESCRIPTION:
URL:https://gis.idaho.gov/event/treasure-valley-gis-user-group-meeting-3
CATEGORIES:Upcoming Events
END:VEVENT
BEGIN:VEVENT
DTSTART;TZID=America/Boise:20210902T130000
DTEND;TZID=America/Boise:20210902T140000
DTSTAMP:20210625T050803
CREATED:20210427T133850Z
LAST-MODIFIED:20210427T134532Z
UID:990-1630587600-1630591200@gis.idaho.gov
SUMMARY:Elevation Technical Working Group Meeting
DESCRIPTION:To connect to the virtual meeting\, click on the “View Event Website” link below \nMeeting ID: 960 6080 2159\nPasscode: 701110\nOne tap mobile\n+16699006833\,\,96060802159# US (San Jose)\n+12532158782\,\,96060802159# US (Tacoma) \nDial by your location\n        +1 669 900 6833 US (San Jose)\n        +1 253 215 8782 US (Tacoma)\n        +1 346 248 7799 US (Houston)\n        +1 646 558 8656 US (New York)\n        +1 301 715 8592 US (Washington DC)\n        +1 312 626 6799 US (Chicago)\nMeeting ID: 960 6080 2159\nFind your local number: https://boisestate.zoom.us/u/abDqhJZPtX
URL:https://gis.idaho.gov/event/elevation-technical-working-group-meeting-5
CATEGORIES:Upcoming Events
END:VEVENT
BEGIN:VEVENT
DTSTART;TZID=America/Boise:20210909T090000
DTEND;TZID=America/Boise:20210909T110000
DTSTAMP:20210625T050803
CREATED:20210511T214753Z
LAST-MODIFIED:20210511T214814Z
UID:1022-1631178000-1631185200@gis.idaho.gov
SUMMARY:Hydrography Technical Working Group Meeting
DESCRIPTION:More info will be coming…so stay tuned for the meeting connection and the agenda.
URL:https://gis.idaho.gov/event/hydrography-technical-working-group-meeting
CATEGORIES:Upcoming Events
END:VEVENT
BEGIN:VEVENT
DTSTART;TZID=America/Boise:20211015T090000
DTEND;TZID=America/Boise:20211015T103000
DTSTAMP:20210625T050803
CREATED:20210409T143646Z
LAST-MODIFIED:20210409T143646Z
UID:954-1634288400-1634293800@gis.idaho.gov
SUMMARY:Treasure Valley GIS User Group Meeting
DESCRIPTION:
URL:https://gis.idaho.gov/event/treasure-valley-gis-user-group-meeting-4
END:VEVENT
BEGIN:VEVENT
DTSTART;TZID=America/Boise:20211025T080000
DTEND;TZID=America/Boise:20211028T170000
DTSTAMP:20210625T050803
CREATED:20210302T141940Z
LAST-MODIFIED:20210302T142508Z
UID:851-1635148800-1635440400@gis.idaho.gov
SUMMARY:Northwest GIS User Group Annual Conference
DESCRIPTION:See the link below for additional information
URL:https://gis.idaho.gov/event/northwest-gis-user-group-annual-conference
CATEGORIES:Upcoming Events
END:VEVENT
BEGIN:VEVENT
DTSTART;TZID=America/Boise:20211217T090000
DTEND;TZID=America/Boise:20211217T103000
DTSTAMP:20210625T050803
CREATED:20210409T143740Z
LAST-MODIFIED:20210409T143740Z
UID:956-1639731600-1639737000@gis.idaho.gov
SUMMARY:Treasure Valley GIS User Group Meeting
DESCRIPTION:
URL:https://gis.idaho.gov/event/treasure-valley-gis-user-group-meeting-5
CATEGORIES:Upcoming Events
END:VEVENT
END:VCALENDAR