BEGIN:VCALENDAR
VERSION:2.0
PRODID:-//Idaho Geospatial Office - ECPv5.7.1//NONSGML v1.0//EN
CALSCALE:GREGORIAN
METHOD:PUBLISH
X-WR-CALNAME:Idaho Geospatial Office
X-ORIGINAL-URL:https://gis.idaho.gov
X-WR-CALDESC:Events for Idaho Geospatial Office
BEGIN:VTIMEZONE
TZID:America/Boise
BEGIN:DAYLIGHT
TZOFFSETFROM:-0700
TZOFFSETTO:-0600
TZNAME:MDT
DTSTART:20200308T090000
END:DAYLIGHT
BEGIN:STANDARD
TZOFFSETFROM:-0600
TZOFFSETTO:-0700
TZNAME:MST
DTSTART:20201101T080000
END:STANDARD
BEGIN:DAYLIGHT
TZOFFSETFROM:-0700
TZOFFSETTO:-0600
TZNAME:MDT
DTSTART:20210314T090000
END:DAYLIGHT
BEGIN:STANDARD
TZOFFSETFROM:-0600
TZOFFSETTO:-0700
TZNAME:MST
DTSTART:20211107T080000
END:STANDARD
END:VTIMEZONE
BEGIN:VEVENT
DTSTART;TZID=America/Boise:20210422T150000
DTEND;TZID=America/Boise:20210422T160000
DTSTAMP:20210626T000329
CREATED:20210416T162040Z
LAST-MODIFIED:20210416T162040Z
UID:961-1619103600-1619107200@gis.idaho.gov
SUMMARY:Geodetic Control Technical Working Group Meeting
DESCRIPTION:Please mark your calendars for the April GC-TWG meeting at 3-4pm MT Thursday April 22nd .  Full details are given on the agenda below. \nAgenda Items\n1. Introductions and sign-in (all)\n2. Updates and news (all)\n   a) Legislative action update (Tom)\n   b) Geodetic Coordinator search (Keith)\n   c) TURN base station updates (Kindra)\n   d) Other (all)\n3. MCPD\n   a) MCPD control point update (Kindra)\n   b) MCPD as state framework dataset nomination (Keith)\n   c) Review and discussion\n4. NATRF2022 status and updates\n5. Other items (all) \nJoin from PC\, Mac\, Linux\, iOS or Android: https://isu.zoom.us/my/gistrec\nMeeting ID: 286 928 9070\nOne tap mobile\n+12532158782\,\,2869289070# US (Tacoma)\n+13462487799\,\,2869289070# US (Houston) \nDial by your location\n        +1 253 215 8782 US (Tacoma)\n        +1 346 248 7799 US (Houston)\n        +1 669 900 6833 US (San Jose)\n        +1 301 715 8592 US (Washington D.C)\n        +1 312 626 6799 US (Chicago)\n        +1 646 876 9923 US (New York)
URL:https://gis.idaho.gov/event/geodetic-control-technical-working-group-meeting-2
CATEGORIES:Upcoming Events
END:VEVENT
BEGIN:VEVENT
DTSTART;TZID=America/Boise:20210422T093000
DTEND;TZID=America/Boise:20210422T110000
DTSTAMP:20210626T000329
CREATED:20210409T142648Z
LAST-MODIFIED:20210409T143024Z
UID:948-1619083800-1619089200@gis.idaho.gov
SUMMARY:Treasure Valley GIS User Group Meeting
DESCRIPTION:Please plan on joining us for our next SIG meeting.  We have a full agenda including the launch of our new name\, Treasure Valley GIS User Group (TVGIS)\, Mike Woodford our new GIO will give an update\, Jan Cunningham with ESRI will be joining us (yes\, there will be giveaways!) and Wilma Robertson with the state will be demonstrating ESRI’s new HUB technology.
URL:https://gis.idaho.gov/event/treasure-valley-gis-user-group-meeting
CATEGORIES:Upcoming Events
END:VEVENT
BEGIN:VEVENT
DTSTART;TZID=America/Boise:20210415T113000
DTEND;TZID=America/Boise:20210415T120000
DTSTAMP:20210626T000329
CREATED:20210414T155818Z
LAST-MODIFIED:20210415T140529Z
UID:958-1618486200-1618488000@gis.idaho.gov
SUMMARY:Tech Talk - ISU GIS TReC Event
DESCRIPTION:Darren Leavitt (PLS) will be our presenter at the next TECH talk with the GIS TReC. His subject is Understanding the PLSS as it relates to GIS and spatial data. \nJoin from PC\, Mac\, Linux\, iOS or Android: https://isu.zoom.us/my/gistrec\nMeeting ID: 286 928 9070\nOne tap mobile\n+12532158782\,\,2869289070# US (Tacoma)\n+13462487799\,\,2869289070# US (Houston)
URL:https://gis.idaho.gov/event/tech-talk-isu-gis-trec-event
END:VEVENT
BEGIN:VEVENT
DTSTART;TZID=America/Boise:20210413T100000
DTEND;TZID=America/Boise:20210413T110000
DTSTAMP:20210626T000329
CREATED:20210316T205453Z
LAST-MODIFIED:20210316T205545Z
UID:890-1618308000-1618311600@gis.idaho.gov
SUMMARY:BioScience Technical Working Group Meeting
DESCRIPTION:BioSciences TWG Meeting  \nJoin meeting from your computer\, tablet or smartphone.\nhttps://global.gotomeeting.com/join/374081341  \nYou can also dial in using your phone.  \nUnited States: +1 (872) 240-3412\nAccess Code: 374-081-341  \nNew to GoToMeeting? Get the app now and be ready when your first meeting starts: https://global.gotomeeting.com/install/374081341
URL:https://gis.idaho.gov/event/bioscience-technical-working-group-meeting
CATEGORIES:Upcoming Events
END:VEVENT
BEGIN:VEVENT
DTSTART;TZID=America/Boise:20210407T100000
DTEND;TZID=America/Boise:20210407T110000
DTSTAMP:20210626T000329
CREATED:20210305T135942Z
LAST-MODIFIED:20210406T130640Z
UID:865-1617789600-1617793200@gis.idaho.gov
SUMMARY:Imagery Technical Working Group Meeting
DESCRIPTION:The first Imagery Technical Working Group meeting of 2021 is Wednesday 4/7! I hope you can join us. The following topics are presently on our (free-form) agenda:\n•	INSIDE Idaho’s Imagery Explorer and the University of Idaho’s digital georeferenced aerial imagery collection – Bruce Godfrey\n•	Imagery data resources provided by ISU’s GIS TReC (including a brief overview of lidar data) – Keith Weber\n•	Information regarding the 2021 Idaho NAIP collection – Eric Buehler\n•	IDL’s planned PhoDAR purchase – Geoff Klein \nVirtual meeting link is below under “view event website” \nJoin the conference call:\nThe GoToMeeting call-in information: \nDial-in number: 1-720-279-0026\nParticipant code: 224422 \nNew to GoToMeeting? Get the app now and be ready when your first meeting starts: https://global.gotomeeting.com/install/357210309
URL:https://gis.idaho.gov/event/imagery-technical-working-group-meeting
CATEGORIES:Upcoming Events
END:VEVENT
BEGIN:VEVENT
DTSTART;TZID=America/Boise:20210407T080000
DTEND;TZID=America/Boise:20210407T120000
DTSTAMP:20210626T000329
CREATED:20210219T185301Z
LAST-MODIFIED:20210311T142141Z
UID:819-1617782400-1617796800@gis.idaho.gov
SUMMARY:Northwest GIS Group Spring Workshop - ArcGIS Tasks
DESCRIPTION:NWGIS is proud to offer Spring Workshops in cooperation with GeoSpatial Training Services. \nEach workshop will have a morning (8am – 12pm Pacific) and afternoon (1pm – 5pm Pacific) session \nThe cost is $50 for NWGIS members and $70 for non-NWGIS members.
URL:https://gis.idaho.gov/event/northwest-gis-group-spring-workshop-arcgis-tasks
CATEGORIES:Training Events,Upcoming Events
END:VEVENT
BEGIN:VEVENT
DTSTART;TZID=America/Boise:20210330T140000
DTEND;TZID=America/Boise:20210330T160000
DTSTAMP:20210626T000329
CREATED:20210322T231511Z
LAST-MODIFIED:20210322T231511Z
UID:900-1617112800-1617120000@gis.idaho.gov
SUMMARY:ArcGIS Field Apps Workshop
DESCRIPTION:Scott Moore from Esri will present a 2-hour workshop on this new App.  Find out if this app works for your organization\, and how to use it.  The meeting link is below (password 102796). If possible\, use your computer for audio. Otherwise dial +1 253 215 8782 (US Toll)\,    Meeting ID: 940 6828 8054 \n 
URL:https://gis.idaho.gov/event/arcgis-field-apps-workshop
END:VEVENT
BEGIN:VEVENT
DTSTART;TZID=America/Boise:20210330T140000
DTEND;TZID=America/Boise:20210330T160000
DTSTAMP:20210626T000329
CREATED:20210309T224608Z
LAST-MODIFIED:20210311T142140Z
UID:871-1617112800-1617120000@gis.idaho.gov
SUMMARY:ArcHub\, Experience Builder\, and Other ESRI Apps for Research & Education
DESCRIPTION:This workshop will demonstrate a number of Esri web tools and services. The session will present examples of both ArcHub and the Experience Builder to showcase possibilities of what how to tools can help to store and disseminate your ideas and data. The presenter will also demonstrate other Esri apps and tools relevant to participants interests (Storymaps\, WebAppBuilder\, and ArcUrban) \nThe email below will go to the registration site.
URL:https://gis.idaho.gov/event/archub-experience-builder-and-other-esri-apps-for-research-education
CATEGORIES:Training Events,Upcoming Events
END:VEVENT
BEGIN:VEVENT
DTSTART;TZID=America/Boise:20210325T150000
DTEND;TZID=America/Boise:20210325T160000
DTSTAMP:20210626T000329
CREATED:20210319T152442Z
LAST-MODIFIED:20210319T152500Z
UID:898-1616684400-1616688000@gis.idaho.gov
SUMMARY:Geodetic Control Technical Working Group Meeting
DESCRIPTION:If possible\, use your computer for audio.  The meeting link is below \nDial by your nearest location\n+1 669 900 6833 US (San Jose)\n+1 646 876 9923 US (New York)\nMeeting ID: 286 928 9070
URL:https://gis.idaho.gov/event/geodetic-control-technical-working-group-meeting
CATEGORIES:Upcoming Events
END:VEVENT
BEGIN:VEVENT
DTSTART;TZID=America/Boise:20210325T093000
DTEND;TZID=America/Boise:20210325T110000
DTSTAMP:20210626T000329
CREATED:20210315T211936Z
LAST-MODIFIED:20210315T212123Z
UID:884-1616664600-1616670000@gis.idaho.gov
SUMMARY:Treasure Valley GIS SIG
DESCRIPTION:The Treasure Valley has a GIS group that meets to discuss GIS data sharing and other items of importance to local and county GIS professionals \nThis is a virtual meeting accessed via the link below. \nJoin by phone\n+1-415-655-0001 US Toll\nMeeting number (access code): 133 016 4256
URL:https://gis.idaho.gov/event/treasure-valley-gis-sig
CATEGORIES:Upcoming Events
END:VEVENT
BEGIN:VEVENT
DTSTART;TZID=America/Boise:20210324T080000
DTEND;TZID=America/Boise:20210324T170000
DTSTAMP:20210626T000329
CREATED:20210302T205000Z
LAST-MODIFIED:20210311T142140Z
UID:861-1616572800-1616605200@gis.idaho.gov
SUMMARY:Real-time GIS (Collecting data using Field Maps for ArcGIS)
DESCRIPTION:The two workshops (today and yesterday) are open for registration with full-details available at https://giscenter.isu.edu/Workshops/index.htm \nThese are Zoom webinar workshops with a reduced cost of only $100 per person/day.   \nIf you have any questions\, feel free to contact Keith Weber directly (keithweber@isu.edu)
URL:https://gis.idaho.gov/event/real-time-gis-collecting-data-using-field-maps-for-arcgis
CATEGORIES:Training Events,Upcoming Events
END:VEVENT
BEGIN:VEVENT
DTSTART;TZID=America/Boise:20210323T080000
DTEND;TZID=America/Boise:20210323T170000
DTSTAMP:20210626T000329
CREATED:20210302T204844Z
LAST-MODIFIED:20210311T142140Z
UID:859-1616486400-1616518800@gis.idaho.gov
SUMMARY:Becoming Productive with ArcGIS Pro
DESCRIPTION:The two workshops (today and tomorrow) are open for registration with full-details available at https://giscenter.isu.edu/Workshops/index.htm \nThese are Zoom webinar workshops with a reduced cost of only $100 per person/day.   \nIf you have any questions\, feel free to contact Keith Weber directly (keithweber@isu.edu)
URL:https://gis.idaho.gov/event/becoming-productive-with-arcgis-pro
CATEGORIES:Training Events,Upcoming Events
END:VEVENT
BEGIN:VEVENT
DTSTART;TZID=America/Boise:20210318T093000
DTEND;TZID=America/Boise:20210318T113000
DTSTAMP:20210626T000329
CREATED:20210305T142311Z
LAST-MODIFIED:20210305T142319Z
UID:867-1616059800-1616067000@gis.idaho.gov
SUMMARY:IGC-EC Meeting
DESCRIPTION:WebEx link (with video): See below for link \n– Or – \nTeleconference (audio) only/dial-in:\nToll-free phone: 1-833-695-0549\nAccess Code: 133 062 4021 #\nAttendee ID: # (No attendee ID is required\, press # to join the meeting)
URL:https://gis.idaho.gov/event/igc-ec-meeting-2
CATEGORIES:Upcoming Events
END:VEVENT
BEGIN:VEVENT
DTSTART;TZID=America/Boise:20210316T100000
DTEND;TZID=America/Boise:20210316T110000
DTSTAMP:20210626T000329
CREATED:20210225T144939Z
LAST-MODIFIED:20210305T140146Z
UID:842-1615888800-1615892400@gis.idaho.gov
SUMMARY:BioScience Technical Working Group
DESCRIPTION:Please join me on 3/16 for the kickoff meeting of our BioScience Technical Working Group.\nDraft Agenda: (please reach out if you have additional agenda items)\n– Introductions (name\, where you work\, and why you are here)\n– Outreach? Who might not be here who should be?\n– TWG categories (discussion on data categories needed)\n– Meeting frequency? \nThank you!\nAngie Schmidt\nIFWIS Program Manager\nIdaho Dept. of Fish and Game \nPlease join my meeting from your computer\, tablet or smartphone.\nhttps://global.gotomeeting.com/join/337932357  \nYou can also dial in using your phone.\nUnited States: +1 (669) 224-3412\n– One-touch: tel:+16692243412\,\,337932357#\nAccess Code: 337-932-357
URL:https://gis.idaho.gov/event/bioscience-technical-working-group
CATEGORIES:Upcoming Events
END:VEVENT
BEGIN:VEVENT
DTSTART;TZID=America/Boise:20210311T120000
DTEND;TZID=America/Boise:20210311T140000
DTSTAMP:20210626T000329
CREATED:20210304T203519Z
LAST-MODIFIED:20210311T142140Z
UID:863-1615464000-1615471200@gis.idaho.gov
SUMMARY:National Geodetic Survey: Working in the Modernized National Spatial Reference System (NSRS)
DESCRIPTION:Webinar Description: \nIn 2021 NGS updated all three of its “Blueprint” documents\, outlining the modernized NSRS. This webinar describes the 2021 update to “Blueprint for the Modernized NSRS\, Part 3: Working in the Modernized NSRS.”
URL:https://gis.idaho.gov/event/national-geodetic-survey-working-in-the-modernized-national-spatial-reference-system-nsrs
CATEGORIES:Training Events,Upcoming Events
END:VEVENT
BEGIN:VEVENT
DTSTART;TZID=America/Boise:20210311T090000
DTEND;TZID=America/Boise:20210311T110000
DTSTAMP:20210626T000329
CREATED:20201201T180115Z
LAST-MODIFIED:20210224T143250Z
UID:312-1615453200-1615460400@gis.idaho.gov
SUMMARY:Hydrography Technical Working Group
DESCRIPTION:Dept. of Water Resources\nConference Room 549\n322 E. Front St.\, Boise\n(Idaho Water Center) \nSee AGENDA for call-in and virtual meeting link
URL:https://gis.idaho.gov/event/hydrography-technical-working-group
CATEGORIES:Upcoming Events
END:VEVENT
BEGIN:VEVENT
DTSTART;TZID=America/Boise:20210303T080000
DTEND;TZID=America/Boise:20210303T120000
DTSTAMP:20210626T000329
CREATED:20210219T184800Z
LAST-MODIFIED:20210219T184800Z
UID:817-1614758400-1614772800@gis.idaho.gov
SUMMARY:Northwest GIS Group Spring Workshop - ArcGIS Pro Tips & Tricks
DESCRIPTION:NWGIS is proud to offer Spring Workshops in cooperation with GeoSpatial Training Services. \nEach workshop will have a morning (8am – 12pm Pacific) and afternoon (1pm – 5pm Pacific) session \nThe cost is $50 for NWGIS members and $70 for non-NWGIS members.
URL:https://gis.idaho.gov/event/northwest-gis-group-spring-workshop-arcgis-pro-tips-tricks
CATEGORIES:Training Events
END:VEVENT
BEGIN:VEVENT
DTSTART;TZID=America/Boise:20210225T150000
DTEND;TZID=America/Boise:20210225T160000
DTSTAMP:20210626T000329
CREATED:20210218T152941Z
LAST-MODIFIED:20210218T154243Z
UID:810-1614265200-1614268800@gis.idaho.gov
SUMMARY:Geodetic Control Technical Working Group
DESCRIPTION:Join from PC\, Mac\, Linux\, iOS or Android: https://isu.zoom.us/my/gistrec\nIf possible\, use your computer for audio\nDial by your nearest location\n+1 669 900 6833 US (San Jose)\n+1 646 876 9923 US (New York)\nMeeting ID: 286 928 9070 \nAgenda Items\n1. Introductions and sign-in (all)\n2. Updates and news (all) \n\nGeodetic Coordinator search (Keith)\nTURN base station updates (Kindra)\nLegislative action update (Tom)\nOther (all)\n\n3. ISPLS annual meetings/conference debrief (Stewart)\n4. MCPD \n\nMCPD control point update (Kindra)\nMCPD as state framework dataset nomination (Keith)\nReview and discussion\n\n5. Other items (all)
URL:https://gis.idaho.gov/event/geodetic-control-technical-working-group-2
END:VEVENT
BEGIN:VEVENT
DTSTART;TZID=America/Boise:20210203T093000
DTEND;TZID=America/Boise:20210203T103000
DTSTAMP:20210626T000329
CREATED:20210105T174406Z
LAST-MODIFIED:20210125T212752Z
UID:602-1612344600-1612348200@gis.idaho.gov
SUMMARY:Public Safety Technical Working Group
DESCRIPTION:You can also dial in using your phone.\nUnited States: +1 (646) 749-3122  \nAccess Code: 348-326-149  \nNew to GoToMeeting? Get the app now and be ready when your first meeting starts: https://global.gotomeeting.com/install/348326149
URL:https://gis.idaho.gov/event/public-safety-technical-working-group
CATEGORIES:Upcoming Events
END:VEVENT
BEGIN:VEVENT
DTSTART;VALUE=DATE:20210201
DTEND;VALUE=DATE:20210205
DTSTAMP:20210626T000329
CREATED:20210125T220707Z
LAST-MODIFIED:20210125T220910Z
UID:699-1612137600-1612483199@gis.idaho.gov
SUMMARY:ISU GIS Workshops
DESCRIPTION:ISU is hosting a series of GIS workshops next week (Feb. 1-4) and the last day to register for these workshops is Thursday January 28th. \nIf you are interested here is a quick run-down of our workshops\, each is a full-day workshop delivered using Zoom webinar.\n•	Monday Feb 1: Beginner’s Guide to GIS\n•	Tuesday Feb. 2: Becoming Productive with ArcGIS Pro\n•	Wednesday Feb. 3. Geodatabases in ArcGIS Pro\n•	Thursday Feb. 4:  Working with Lidar in ArcGIS Pro \nEach workshop is only $100 per day and even better\, the Thursday Lidar workshop is absolutely free! \nFull details and registration information/forms are available by visiting https://giscenter.isu.edu/Workshops/index.htm
URL:https://gis.idaho.gov/event/isu-gis-workshops
CATEGORIES:Training Events
END:VEVENT
BEGIN:VEVENT
DTSTART;TZID=America/Boise:20210128T150000
DTEND;TZID=America/Boise:20210128T160000
DTSTAMP:20210626T000329
CREATED:20210121T193519Z
LAST-MODIFIED:20210125T212809Z
UID:692-1611846000-1611849600@gis.idaho.gov
SUMMARY:Geodetic Control Technical Working Group
DESCRIPTION:Join from PC\, Mac\, Linux\, iOS or Android: https://isu.zoom.us/my/gistrec\nIf possible\, use your computer for audio\nDial by your nearest location\n+1 669 900 6833 US (San Jose)\n+1 646 876 9923 US (New York)\nMeeting ID: 286 928 9070
URL:https://gis.idaho.gov/event/geodetic-control-technical-working-group
CATEGORIES:Upcoming Events
END:VEVENT
BEGIN:VEVENT
DTSTART;TZID=America/Boise:20210121T093000
DTEND;TZID=America/Boise:20210121T113000
DTSTAMP:20210626T000329
CREATED:20210121T143202Z
LAST-MODIFIED:20210125T212832Z
UID:681-1611221400-1611228600@gis.idaho.gov
SUMMARY:IGC-EC Meeting
DESCRIPTION:Webex link (with video): \nhttps://idahogov.webex.com/meet/mary.bir \nTeleconference (audio) only/dial-in: \nToll-free phone: 1-833-695-0549 \nAccess Code: 133 062 4021 # \nAttendee ID: # (No attendee ID is required\, press # to join the meeting) \nPhysical Location: State of Idaho Chinden Campus \n11331 W. Chinden Blvd\, Building 2\, 2nd Floor\, Conf Rm 215\, Boise Idaho*
URL:https://gis.idaho.gov/event/igc-ec-meeting
CATEGORIES:Upcoming Events
END:VEVENT
BEGIN:VEVENT
DTSTART;TZID=America/Boise:20210112T100000
DTEND;TZID=America/Boise:20210112T113000
DTSTAMP:20210626T000329
CREATED:20201201T175831Z
LAST-MODIFIED:20210125T212832Z
UID:310-1610445600-1610451000@gis.idaho.gov
SUMMARY:Transportation Technical Working Group
DESCRIPTION:WebEx Link: See below \nDial in: 1.844.740.1264\nPasscode: 1773656602##
URL:https://gis.idaho.gov/event/transportation-technical-working-group
CATEGORIES:Upcoming Events
END:VEVENT
BEGIN:VEVENT
DTSTART;TZID=America/Boise:20201203T100000
DTEND;TZID=America/Boise:20201203T110000
DTSTAMP:20210626T000329
CREATED:20201201T175614Z
LAST-MODIFIED:20210125T212832Z
UID:308-1606989600-1606993200@gis.idaho.gov
SUMMARY:Parcels Technical Working Group
DESCRIPTION:WebEx meeting link: See Below \nDial in: +1-415-655-0001 passcode: 1337270984##
URL:https://gis.idaho.gov/event/parcels-technical-working-group
CATEGORIES:Upcoming Events
END:VEVENT
BEGIN:VEVENT
DTSTART;TZID=America/Boise:20201202T093000
DTEND;TZID=America/Boise:20201202T100000
DTSTAMP:20210626T000329
CREATED:20201201T175319Z
LAST-MODIFIED:20210125T212832Z
UID:305-1606901400-1606903200@gis.idaho.gov
SUMMARY:IGC-EC Special Meeting
DESCRIPTION:Agenda and Handouts\nWebEx Meeting Link: See below \nDial in:\nToll-free: 1-833-695-0549\nAccess Code: 133-691-2815#\nAttendee ID: # (No attendee ID is required\, press # to join the meeting)\nAddress:\n11331 W. Chinden Blvd.\, Bldg 8\, 2nd Floor\nNote: RSVP is required to attend in person\, see Agenda for details
URL:https://gis.idaho.gov/event/igc-ec-special-meeting
LOCATION:11331 W. Chinden Blvd.\, Bldg. 8\, 2nd Floor\, ID
CATEGORIES:Upcoming Events
END:VEVENT
END:VCALENDAR