BEGIN:VCALENDAR
VERSION:2.0
PRODID:-//Idaho Geospatial Office - ECPv5.5.0.1//NONSGML v1.0//EN
CALSCALE:GREGORIAN
METHOD:PUBLISH
X-WR-CALNAME:Idaho Geospatial Office
X-ORIGINAL-URL:https://gis.idaho.gov
X-WR-CALDESC:Events for Idaho Geospatial Office
BEGIN:VTIMEZONE
TZID:America/Boise
BEGIN:DAYLIGHT
TZOFFSETFROM:-0700
TZOFFSETTO:-0600
TZNAME:MDT
DTSTART:20210314T090000
END:DAYLIGHT
BEGIN:STANDARD
TZOFFSETFROM:-0600
TZOFFSETTO:-0700
TZNAME:MST
DTSTART:20211107T080000
END:STANDARD
END:VTIMEZONE
BEGIN:VEVENT
DTSTART;VALUE=DATE:20210719
DTEND;VALUE=DATE:20210724
DTSTAMP:20210428T205305
CREATED:20210315T125800Z
LAST-MODIFIED:20210315T125800Z
UID:882-1626652800-1627084799@gis.idaho.gov
SUMMARY:Geospatial Training Services - ArcGIS Pro Training
DESCRIPTION:These ArcGIS classes are paid training offered by Geospatial Training Services\nMore information and registration are available via the link below.
URL:https://gis.idaho.gov/event/geospatial-training-services-arcgis-pro-training
CATEGORIES:Training Events
END:VEVENT
BEGIN:VEVENT
DTSTART;TZID=America/Boise:20210527T090000
DTEND;TZID=America/Boise:20210527T160000
DTSTAMP:20210428T205305
CREATED:20210426T141631Z
LAST-MODIFIED:20210426T141631Z
UID:976-1622106000-1622131200@gis.idaho.gov
SUMMARY:ISU GIS TReC Workshop - Geodatabases in ArcGIS Pro
DESCRIPTION:We will continue to offer Zoom online workshops this summer with plans to resume in-person/hybrid workshops in the fall. \nEach workshop is still only $100 per person/day and each is a full-day workshop (9am-4pm MT). \nTo learn more about each workshop or to register\, just visit https://giscenter.isu.edu/Workshops/index.htm \nIf you have a question about these workshops email Keith Weber directly at webekeit@isu.edu
URL:https://gis.idaho.gov/event/isu-gis-trec-workshop-geodatabases-in-arcgis-pro
CATEGORIES:Training Events
END:VEVENT
BEGIN:VEVENT
DTSTART;TZID=America/Boise:20210526T090000
DTEND;TZID=America/Boise:20210526T160000
DTSTAMP:20210428T205305
CREATED:20210426T141520Z
LAST-MODIFIED:20210426T141726Z
UID:974-1622019600-1622044800@gis.idaho.gov
SUMMARY:ISU GIS TReC Workshop - Becoming Productive with ArcGIS Pro
DESCRIPTION:We will continue to offer Zoom online workshops this summer with plans to resume in-person/hybrid workshops in the fall. \nEach workshop is still only $100 per person/day and each is a full-day workshop (9am-4pm MT). \nTo learn more about each workshop or to register\, just visit https://giscenter.isu.edu/Workshops/index.htm \nIf you have a question about these workshops email Keith Weber directly at webekeit@isu.edu
URL:https://gis.idaho.gov/event/isu-gis-trec-workshop-becoming-productive-with-arcgis-pro
CATEGORIES:Training Events
END:VEVENT
BEGIN:VEVENT
DTSTART;TZID=America/Boise:20210525T090000
DTEND;TZID=America/Boise:20210525T160000
DTSTAMP:20210428T205305
CREATED:20210426T141335Z
LAST-MODIFIED:20210426T141705Z
UID:971-1621933200-1621958400@gis.idaho.gov
SUMMARY:ISU GIS  TReC Workshop - Beginners Guide to GIS
DESCRIPTION:We will continue to offer Zoom online workshops this summer with plans to resume in-person/hybrid workshops in the fall. \nEach workshop is still only $100 per person/day and each is a full-day workshop (9am-4pm MT). \nTo learn more about each workshop or to register\, just visit https://giscenter.isu.edu/Workshops/index.htm \nIf you have a question about these workshops email Keith Weber directly at webekeit@isu.edu
URL:https://gis.idaho.gov/event/isu-gis-trec-workshop-beginners-guide-to-gis
CATEGORIES:Training Events
END:VEVENT
BEGIN:VEVENT
DTSTART;TZID=America/Boise:20210505T080000
DTEND;TZID=America/Boise:20210505T120000
DTSTAMP:20210428T205305
CREATED:20210219T185411Z
LAST-MODIFIED:20210311T142141Z
UID:821-1620201600-1620216000@gis.idaho.gov
SUMMARY:Northwest GIS Group Spring Workshop - Introduction to Python
DESCRIPTION:NWGIS is proud to offer Spring Workshops in cooperation with GeoSpatial Training Services. \nEach workshop will have a morning (8am – 12pm Pacific) and afternoon (1pm – 5pm Pacific) session \nThe cost is $50 for NWGIS members and $70 for non-NWGIS members.
URL:https://gis.idaho.gov/event/northwest-gis-group-spring-workshop-introduction-to-python
CATEGORIES:Training Events,Upcoming Events
END:VEVENT
END:VCALENDAR