BEGIN:VCALENDAR
VERSION:2.0
PRODID:-//Idaho Geospatial Office - ECPv5.6.0//NONSGML v1.0//EN
CALSCALE:GREGORIAN
METHOD:PUBLISH
X-WR-CALNAME:Idaho Geospatial Office
X-ORIGINAL-URL:https://gis.idaho.gov
X-WR-CALDESC:Events for Idaho Geospatial Office
BEGIN:VTIMEZONE
TZID:America/Boise
BEGIN:DAYLIGHT
TZOFFSETFROM:-0700
TZOFFSETTO:-0600
TZNAME:MDT
DTSTART:20210314T090000
END:DAYLIGHT
BEGIN:STANDARD
TZOFFSETFROM:-0600
TZOFFSETTO:-0700
TZNAME:MST
DTSTART:20211107T080000
END:STANDARD
END:VTIMEZONE
BEGIN:VEVENT
DTSTART;TZID=America/Boise:20210601T140000
DTEND;TZID=America/Boise:20210601T160000
DTSTAMP:20210604T201542
CREATED:20210510T191559Z
LAST-MODIFIED:20210510T192204Z
UID:1016-1622556000-1622563200@gis.idaho.gov
SUMMARY:Building Initiatives on ArcGIS Hub Workshop
DESCRIPTION:See https://gis.idaho.gov/gis-services-for-state-agencies for instructions on how to sign up\, as well as access recordings and workbooks for previous workshops.
URL:https://gis.idaho.gov/event/building-initiatives-on-arcgis-hub
CATEGORIES:Training Events
END:VEVENT
END:VCALENDAR