BEGIN:VCALENDAR
VERSION:2.0
PRODID:-//Idaho Geospatial Office - ECPv6.15.18//NONSGML v1.0//EN
CALSCALE:GREGORIAN
METHOD:PUBLISH
X-WR-CALNAME:Idaho Geospatial Office
X-ORIGINAL-URL:https://gis.idaho.gov
X-WR-CALDESC:Events for Idaho Geospatial Office
REFRESH-INTERVAL;VALUE=DURATION:PT1H
X-Robots-Tag:noindex
X-PUBLISHED-TTL:PT1H
BEGIN:VTIMEZONE
TZID:America/Boise
BEGIN:DAYLIGHT
TZOFFSETFROM:-0700
TZOFFSETTO:-0600
TZNAME:MDT
DTSTART:20240310T090000
END:DAYLIGHT
BEGIN:STANDARD
TZOFFSETFROM:-0600
TZOFFSETTO:-0700
TZNAME:MST
DTSTART:20241103T080000
END:STANDARD
BEGIN:DAYLIGHT
TZOFFSETFROM:-0700
TZOFFSETTO:-0600
TZNAME:MDT
DTSTART:20250309T090000
END:DAYLIGHT
BEGIN:STANDARD
TZOFFSETFROM:-0600
TZOFFSETTO:-0700
TZNAME:MST
DTSTART:20251102T080000
END:STANDARD
BEGIN:DAYLIGHT
TZOFFSETFROM:-0700
TZOFFSETTO:-0600
TZNAME:MDT
DTSTART:20260308T090000
END:DAYLIGHT
BEGIN:STANDARD
TZOFFSETFROM:-0600
TZOFFSETTO:-0700
TZNAME:MST
DTSTART:20261101T080000
END:STANDARD
END:VTIMEZONE
BEGIN:VEVENT
DTSTART;TZID=America/Boise:20250708T110000
DTEND;TZID=America/Boise:20250708T120000
DTSTAMP:20260425T075631
CREATED:20250203T151139Z
LAST-MODIFIED:20250203T151139Z
UID:4407-1751972400-1751976000@gis.idaho.gov
SUMMARY:Addressing Special Interest Group
DESCRIPTION:Address Discussion/Meet Up\nThis is the monthly meetup schedule for Addressing. If you are on here and need to be removed let me know. It was a simple copy and paste reoccurrence. More details per month will come out if there is a presentation over a general discussion. Bring your questions and get some statewide answers. \n-~-~-~-~-~-~-~-~-~-~-~-~-~-~-~-~-~-~-~-~-~-~- \n\n\n\n— Do not delete or change any of the following text. —\n\n\n \n\n\n\n\n\n\nWhen it’s time\, join your Webex meeting here. \n\n\n \n\n\n\n  \n\n\n\n\n\n\n\nJoin meeting\n\n\n\n\n\n\n \n\n\nMore ways to join: \n\n\n \n\n\nJoin from the meeting link \n\n\nhttps://adacounty.webex.com/adacounty/j.php?MTID=mf6fe239cd14a31e9b2387cbc8c4ceeb6\n\n\n \n\n\n\n  \n\n\n\nJoin by meeting number \n\n\nMeeting number (access code): 2869 902 5383\n\n\nMeeting password: e7Pa3cx3mmM\n\n\n \n\n\n\nTap to join from a mobile device (attendees only)\n+1-415-655-0001\,\,28699025383## US Toll \nJoin by phone\n+1-415-655-0001 US Toll\nGlobal call-in numbers \n\n\n\n \n\n\n\nJoin from a video system or application\nDial 28699025383@adacounty.webex.com\nYou can also dial 173.243.2.68 and enter your meeting number. \n\n\n\n \n\n\n\n  \n\n\n\n \n\n\nIf you are a host\, click here and login site to view host information.\n\n\n\n  \n\n\n\n \n\n\nNeed help? Go to https://help.webex.com\n\n\n 
URL:https://gis.idaho.gov/event/addressing-special-interest-group-7
END:VEVENT
BEGIN:VEVENT
DTSTART;TZID=America/Boise:20250708T130000
DTEND;TZID=America/Boise:20250708T140000
DTSTAMP:20260425T075631
CREATED:20250113T195812Z
LAST-MODIFIED:20250113T195812Z
UID:4329-1751979600-1751983200@gis.idaho.gov
SUMMARY:Climate Technical Working Group - July
DESCRIPTION:The climate technical working group will be held the 2nd Tuesday of each month\, with topics and presenters covering climate datasets to be found for and displayed on The Idaho Map once approved by the Idaho Geospatial Council. All are invited to these meetings and we are always open to suggestions on future datasets to cover. We hope to see you there! \nPresenter/Topic for the Month: To Be Announced \n________________________________________________________________________________ \nMicrosoft Teams Need help? \nJoin the meeting now \nMeeting ID: 226 406 736 38 \nPasscode: y2Kd7AB9 \nDial in by phone \n+1 208-985-2810\,\,833810094# United States\, Boise \nFind a local number \nPhone conference ID: 833 810 094# \nJoin on a video conferencing device \nTenant key: idahogov@m.webex.com \nVideo ID: 113 845 892 8 \nMore info
URL:https://gis.idaho.gov/event/climate-technical-working-group-july
END:VEVENT
END:VCALENDAR