BEGIN:VCALENDAR
VERSION:2.0
PRODID:-//Idaho Geospatial Office - ECPv6.15.18//NONSGML v1.0//EN
CALSCALE:GREGORIAN
METHOD:PUBLISH
X-WR-CALNAME:Idaho Geospatial Office
X-ORIGINAL-URL:https://gis.idaho.gov
X-WR-CALDESC:Events for Idaho Geospatial Office
REFRESH-INTERVAL;VALUE=DURATION:PT1H
X-Robots-Tag:noindex
X-PUBLISHED-TTL:PT1H
BEGIN:VTIMEZONE
TZID:America/Boise
BEGIN:DAYLIGHT
TZOFFSETFROM:-0700
TZOFFSETTO:-0600
TZNAME:MDT
DTSTART:20240310T090000
END:DAYLIGHT
BEGIN:STANDARD
TZOFFSETFROM:-0600
TZOFFSETTO:-0700
TZNAME:MST
DTSTART:20241103T080000
END:STANDARD
BEGIN:DAYLIGHT
TZOFFSETFROM:-0700
TZOFFSETTO:-0600
TZNAME:MDT
DTSTART:20250309T090000
END:DAYLIGHT
BEGIN:STANDARD
TZOFFSETFROM:-0600
TZOFFSETTO:-0700
TZNAME:MST
DTSTART:20251102T080000
END:STANDARD
BEGIN:DAYLIGHT
TZOFFSETFROM:-0700
TZOFFSETTO:-0600
TZNAME:MDT
DTSTART:20260308T090000
END:DAYLIGHT
BEGIN:STANDARD
TZOFFSETFROM:-0600
TZOFFSETTO:-0700
TZNAME:MST
DTSTART:20261101T080000
END:STANDARD
END:VTIMEZONE
BEGIN:VEVENT
DTSTART;TZID=America/Boise:20250624T090000
DTEND;TZID=America/Boise:20250624T100000
DTSTAMP:20260425T125548
CREATED:20250518T022803Z
LAST-MODIFIED:20250606T172009Z
UID:4487-1750755600-1750759200@gis.idaho.gov
SUMMARY:Hazard Technical Working Group - POSTPONED until June 24
DESCRIPTION:Agenda \n\nFlood risk\n\nReview updated standard and nomination for flood risk (amended to include data from IDWR\, so we can send it to the IGC-EC for 7/10 approval)\n\n\nFire risk\n\nDiscuss nomination to approve IDL as Idaho’s authoritative fire risk model for inclusion in the Idaho Map\nDiscuss pros and cons of nominating USFS riskmap.org as secondary dataset to provide users additional information (without confusing people)\n\n\nVolcano risk\n\nReview standard and nomination for volcano risk (we had a meeting a while back\, but I do not think it has gone through the IGC-EC approval process)\n\n\nWhich datasets to tackle next?\n\nWe still need to nominate Dam dataset (we have a standard based on IDWR’s dam dataset)\nWhich hazard datasets do we need to tackle next\n\n\n\nJoin the meeting now \nMeeting ID: 266 631 886 214 2 \nPasscode: og6Dj9Fn \nDial in by phone \n+1 208-985-2810\,\,112546374# United States\, Boise
URL:https://gis.idaho.gov/event/hazard-technical-working-group-11
ORGANIZER;CN="Wilma Robertson":MAILTO:Wilma.Robertson@its.idaho.gov
END:VEVENT
END:VCALENDAR