BEGIN:VCALENDAR
VERSION:2.0
PRODID:-//Idaho Geospatial Office - ECPv6.15.18//NONSGML v1.0//EN
CALSCALE:GREGORIAN
METHOD:PUBLISH
X-WR-CALNAME:Idaho Geospatial Office
X-ORIGINAL-URL:https://gis.idaho.gov
X-WR-CALDESC:Events for Idaho Geospatial Office
REFRESH-INTERVAL;VALUE=DURATION:PT1H
X-Robots-Tag:noindex
X-PUBLISHED-TTL:PT1H
BEGIN:VTIMEZONE
TZID:America/Boise
BEGIN:DAYLIGHT
TZOFFSETFROM:-0700
TZOFFSETTO:-0600
TZNAME:MDT
DTSTART:20240310T090000
END:DAYLIGHT
BEGIN:STANDARD
TZOFFSETFROM:-0600
TZOFFSETTO:-0700
TZNAME:MST
DTSTART:20241103T080000
END:STANDARD
BEGIN:DAYLIGHT
TZOFFSETFROM:-0700
TZOFFSETTO:-0600
TZNAME:MDT
DTSTART:20250309T090000
END:DAYLIGHT
BEGIN:STANDARD
TZOFFSETFROM:-0600
TZOFFSETTO:-0700
TZNAME:MST
DTSTART:20251102T080000
END:STANDARD
BEGIN:DAYLIGHT
TZOFFSETFROM:-0700
TZOFFSETTO:-0600
TZNAME:MDT
DTSTART:20260308T090000
END:DAYLIGHT
BEGIN:STANDARD
TZOFFSETFROM:-0600
TZOFFSETTO:-0700
TZNAME:MST
DTSTART:20261101T080000
END:STANDARD
END:VTIMEZONE
BEGIN:VEVENT
DTSTART;TZID=America/Boise:20250605T130000
DTEND;TZID=America/Boise:20250605T140000
DTSTAMP:20260425T142501
CREATED:20250117T162454Z
LAST-MODIFIED:20250117T162454Z
UID:4376-1749128400-1749132000@gis.idaho.gov
SUMMARY:Elevation Technical Working Group
DESCRIPTION:  \nTopic: Elevation TWG \nTime: 1pm Mountain Time\, First Thursday of the Month \n  \nJoin Zoom Meeting \nhttps://boisestate.zoom.us/j/96060802159?pwd=OVVjOXV6OURpQWF6dkdCOUZNaWNTdz09 \n  \nMeeting ID: 960 6080 2159 \nPasscode: 701110 \nOne tap mobile \n+16699006833\,\,96060802159# US (San Jose) \n+12532158782\,\,96060802159# US (Tacoma) \n  \nDial by your location \n+1 669 900 6833 US (San Jose) \n+1 253 215 8782 US (Tacoma) \n+1 346 248 7799 US (Houston) \n+1 646 558 8656 US (New York) \n+1 301 715 8592 US (Washington DC) \n+1 312 626 6799 US (Chicago) \nMeeting ID: 960 6080 2159 \nFind your local number: https://boisestate.zoom.us/u/abDqhJZPtX
URL:https://gis.idaho.gov/event/elevation-technical-working-group-28
ORGANIZER;CN="Josh Enterkine":MAILTO:joshenterkine@boisestate.edu
END:VEVENT
END:VCALENDAR