BEGIN:VCALENDAR
VERSION:2.0
PRODID:-//Idaho Geospatial Office - ECPv5.9.2//NONSGML v1.0//EN
CALSCALE:GREGORIAN
METHOD:PUBLISH
X-WR-CALNAME:Idaho Geospatial Office
X-ORIGINAL-URL:https://gis.idaho.gov
X-WR-CALDESC:Events for Idaho Geospatial Office
BEGIN:VTIMEZONE
TZID:America/Boise
BEGIN:DAYLIGHT
TZOFFSETFROM:-0700
TZOFFSETTO:-0600
TZNAME:MDT
DTSTART:20210314T090000
END:DAYLIGHT
BEGIN:STANDARD
TZOFFSETFROM:-0600
TZOFFSETTO:-0700
TZNAME:MST
DTSTART:20211107T080000
END:STANDARD
END:VTIMEZONE
BEGIN:VEVENT
DTSTART;TZID=America/Boise:20211013T090000
DTEND;TZID=America/Boise:20211013T160000
DTSTAMP:20211019T005545
CREATED:20211008T134056Z
LAST-MODIFIED:20211008T134056Z
UID:1301-1634115600-1634140800@gis.idaho.gov
SUMMARY:Bi-Annual IGC Meeting in Chubbuck (and online)
DESCRIPTION:IGC General Meeting\nOctober 13th 2021\nHost: East Idaho\nWhere: Chubbuck City Hall + online (see Zoom link below) \n\nAgenda \n9:00 a.m. – 4:00 p.m. MT\n9:00 a.m. Welcome and introductions (Wilma Robertson\, Jackie Malloy and Mayor Kevin B. England)\n9:15 a.m. Presentation: GIS for the City of Chubbuck (Jackie Malloy)\n9:45 a.m. Presentation: IGC-EC Updates (Wilma Robertson)\n10:15 a.m. Technical Working Group (TWG) and Framework Leadership Team presentations/discussion\n10:45 a.m. BREAK (Sponsored by Esri)\n11:00 a.m. Lightning Talks (Wilma Robertson\, Pam Bond\, and Dan Narsavage)\n11:15 a.m. Presentation: Portal and Branch Versioning for Campus GIS at ISU (Kindra Blair andJessalyn Bartholomew)\n11:45 a.m. Panel discussion: The Role of GIS in COVID Emergency Management \n12:15 p.m. LUNCH \n\n1:15 p.m. Presentation: Esri-What the future holds for ArcGIS (John Sharrard)\n1:45 p.m. Presentation: Esri-Reporting and Dashboards (John Sharrard)\n2:15 p.m. BREAK (Sponsored by ISU’s GIS TReC)\n2:30 p.m. Presentation: NSRS Modernization Update (Dan Determan)\n3:00 p.m. Presentation: Idaho Strategic Plan (Mike Woodford)\n3:30 p.m. Presentation: Bannock County GIS (Heather Studley)\n4:00 p.m. Adjourn \n\nJoin Zoom Meeting\nhttps://us02web.zoom.us/j/85093671619?pwd=ZDlLbVI3OUFTaVhOUEhrVEovTElWUT09 \nMeeting ID: 850 9367 1619\nPasscode: 084162
URL:https://gis.idaho.gov/event/bi-annual-igc-meeting-in-chubbuck-and-online
LOCATION:Chubbuck City Hall\, 290 East Linden St. Chubbuck\, ID 83202\, 290 East Linden St\, Chubbuck\, 83202\, United States
CATEGORIES:Training Events,Upcoming Events
END:VEVENT
END:VCALENDAR