BEGIN:VCALENDAR
VERSION:2.0
PRODID:-//Idaho Geospatial Office - ECPv5.9.2//NONSGML v1.0//EN
CALSCALE:GREGORIAN
METHOD:PUBLISH
X-WR-CALNAME:Idaho Geospatial Office
X-ORIGINAL-URL:https://gis.idaho.gov
X-WR-CALDESC:Events for Idaho Geospatial Office
BEGIN:VTIMEZONE
TZID:America/Boise
BEGIN:DAYLIGHT
TZOFFSETFROM:-0700
TZOFFSETTO:-0600
TZNAME:MDT
DTSTART:20210314T090000
END:DAYLIGHT
BEGIN:STANDARD
TZOFFSETFROM:-0600
TZOFFSETTO:-0700
TZNAME:MST
DTSTART:20211107T080000
END:STANDARD
END:VTIMEZONE
BEGIN:VEVENT
DTSTART;TZID=America/Boise:20211007T130000
DTEND;TZID=America/Boise:20211007T140000
DTSTAMP:20211019T005408
CREATED:20210720T141159Z
LAST-MODIFIED:20210720T141159Z
UID:1206-1633611600-1633615200@gis.idaho.gov
SUMMARY:Elevation Technical Working Group Meeting
DESCRIPTION:To connect to the virtual meeting\, click on the “View Event Website” link below \nMeeting ID: 960 6080 2159\nPasscode: 701110\nOne tap mobile\n+16699006833\,\,96060802159# US (San Jose)\n+12532158782\,\,96060802159# US (Tacoma) \nDial by your location\n        +1 669 900 6833 US (San Jose)\n        +1 253 215 8782 US (Tacoma)\n        +1 346 248 7799 US (Houston)\n        +1 646 558 8656 US (New York)\n        +1 301 715 8592 US (Washington DC)\n        +1 312 626 6799 US (Chicago)\nMeeting ID: 960 6080 2159\nFind your local number: https://boisestate.zoom.us/u/abDqhJZPtX
URL:https://gis.idaho.gov/event/elevation-technical-working-group-meeting-6
CATEGORIES:Upcoming Events
ORGANIZER;CN="Josh%20Enterkine":MAILTO:joshenterkine@boisestate.edu
END:VEVENT
END:VCALENDAR