BEGIN:VCALENDAR
VERSION:2.0
PRODID:-//Idaho Geospatial Office - ECPv5.7.0//NONSGML v1.0//EN
CALSCALE:GREGORIAN
METHOD:PUBLISH
X-WR-CALNAME:Idaho Geospatial Office
X-ORIGINAL-URL:https://gis.idaho.gov
X-WR-CALDESC:Events for Idaho Geospatial Office
BEGIN:VTIMEZONE
TZID:America/Boise
BEGIN:DAYLIGHT
TZOFFSETFROM:-0700
TZOFFSETTO:-0600
TZNAME:MDT
DTSTART:20210314T090000
END:DAYLIGHT
BEGIN:STANDARD
TZOFFSETFROM:-0600
TZOFFSETTO:-0700
TZNAME:MST
DTSTART:20211107T080000
END:STANDARD
END:VTIMEZONE
BEGIN:VEVENT
DTSTART;TZID=America/Boise:20210616T100000
DTEND;TZID=America/Boise:20210616T110000
DTSTAMP:20210621T042926
CREATED:20210520T171519Z
LAST-MODIFIED:20210615T122018Z
UID:1029-1623837600-1623841200@gis.idaho.gov
SUMMARY:Parcel Technical Working Group
DESCRIPTION:If you can please attend our Parcel TWG meeting this week – Wednesday\, June 16th at 9 a.m. PDT/10 a.m. MDT \nWe will be presenting proposed attribute standards. \nAlso a webinar posted on YouTube by the New York State Open GIS Parcel Data has a very good discussion about why open access to GIS tax parcels is important in New York State.\nThis seems relevant to our discussions and I wanted to share this with all and discuss it at the meeting – NYS Open GIS Parcel Data – YouTube \nJoin from the meeting link\nhttps://idahogov.webex.com/idahogov/j.php?MTID=m40fe9c1545440b4ce5f099d8d5822676  \nJoin by meeting number\nMeeting number (access code): 1770 76 0040\nMeeting password: GiDWeCrC982  \nTap to join from a mobile device (attendees only)\n+1-415-655-0001\,\,1770760040## US Toll  \nJoin by phone\n+1-415-655-0001 US Toll\nGlobal call-in numbers  \nJoin from a video system or application\nDial 1770760040@idahogov.webex.com\nYou can also dial 173.243.2.68 and enter your meeting number.  \nJoin using Microsoft Lync or Microsoft Skype for Business\nDial 1770760040.idahogov@lync.webex.com
URL:https://gis.idaho.gov/event/parcel-technical-working-group
CATEGORIES:Upcoming Events
ORGANIZER;CN="Betty%20Conces":MAILTO:bconces@kcgov.us
END:VEVENT
END:VCALENDAR