BEGIN:VCALENDAR
VERSION:2.0
PRODID:-//Idaho Geospatial Office - ECPv6.15.18//NONSGML v1.0//EN
CALSCALE:GREGORIAN
METHOD:PUBLISH
X-WR-CALNAME:Idaho Geospatial Office
X-ORIGINAL-URL:https://gis.idaho.gov
X-WR-CALDESC:Events for Idaho Geospatial Office
REFRESH-INTERVAL;VALUE=DURATION:PT1H
X-Robots-Tag:noindex
X-PUBLISHED-TTL:PT1H
BEGIN:VTIMEZONE
TZID:America/Boise
BEGIN:DAYLIGHT
TZOFFSETFROM:-0700
TZOFFSETTO:-0600
TZNAME:MDT
DTSTART:20240310T090000
END:DAYLIGHT
BEGIN:STANDARD
TZOFFSETFROM:-0600
TZOFFSETTO:-0700
TZNAME:MST
DTSTART:20241103T080000
END:STANDARD
BEGIN:DAYLIGHT
TZOFFSETFROM:-0700
TZOFFSETTO:-0600
TZNAME:MDT
DTSTART:20250309T090000
END:DAYLIGHT
BEGIN:STANDARD
TZOFFSETFROM:-0600
TZOFFSETTO:-0700
TZNAME:MST
DTSTART:20251102T080000
END:STANDARD
BEGIN:DAYLIGHT
TZOFFSETFROM:-0700
TZOFFSETTO:-0600
TZNAME:MDT
DTSTART:20260308T090000
END:DAYLIGHT
BEGIN:STANDARD
TZOFFSETFROM:-0600
TZOFFSETTO:-0700
TZNAME:MST
DTSTART:20261101T080000
END:STANDARD
END:VTIMEZONE
BEGIN:VEVENT
DTSTART;TZID=America/Boise:20250528T110000
DTEND;TZID=America/Boise:20250528T120000
DTSTAMP:20260425T061149
CREATED:20250520T215327Z
LAST-MODIFIED:20250520T215327Z
UID:4492-1748430000-1748433600@gis.idaho.gov
SUMMARY:Bioscience Technical Working Group
DESCRIPTION:________________________________________________________________________________ \nMicrosoft Teams Need help? \nJoin the meeting now \nMeeting ID: 278 135 974 075 9 \nPasscode: yd9e4mJ2 \nDial in by phone \n+1 208-985-2810\,\,608903197# United States\, Boise \nFind a local number \nPhone conference ID: 608 903 197# \nJoin on a video conferencing device \nTenant key: idahogov@m.webex.com \nVideo ID: 111 046 786 9 \nMore info \nFor organizers: Meeting options | Reset dial-in PIN \n________________________________________________________________________________
URL:https://gis.idaho.gov/event/bioscience-technical-working-group-5
END:VEVENT
END:VCALENDAR